BEGIN:VCALENDAR
VERSION:2.0
PRODID:spatie/icalendar-generator
NAME:Jones MS Athletic Booster Club Calendar
X-WR-CALNAME:Jones MS Athletic Booster Club Calendar
REFRESH-INTERVAL;VALUE=DURATION:PT30M
X-PUBLISHED-TTL:PT30M
BEGIN:VTIMEZONE
TZID:America/Chicago
BEGIN:STANDARD
DTSTART:20251102T010000
TZOFFSETFROM:-0500
TZOFFSETTO:-0600
END:STANDARD
BEGIN:DAYLIGHT
DTSTART:20260308T010000
TZOFFSETFROM:-0600
TZOFFSETTO:-0500
END:DAYLIGHT
BEGIN:STANDARD
DTSTART:20261101T010000
TZOFFSETFROM:-0500
TZOFFSETTO:-0600
END:STANDARD
END:VTIMEZONE
BEGIN:VTIMEZONE
TZID:UTC
BEGIN:STANDARD
DTSTART:20250729T182728
TZOFFSETFROM:+0000
TZOFFSETTO:+0000
END:STANDARD
END:VTIMEZONE
BEGIN:VEVENT
UID:event-888967@jonesabc.boosterhub.com
DTSTAMP:20260425T182728Z
SUMMARY:Boys Soccer HOME 5:00PM\; 6:30PM
DESCRIPTION:
LOCATION:Jones Middle School 12201 Prestwick Hollow Drive\, Frisco\, TX 750
 35
DTSTART;TZID=America/Chicago:20260430T170000
END:VEVENT
BEGIN:VEVENT
UID:event-888970@jonesabc.boosterhub.com
DTSTAMP:20260425T182728Z
SUMMARY:Girls Soccer HOME 5:00PM\; 6:30PM
DESCRIPTION:
LOCATION:Jones Middle School 12201 Prestwick Hollow Drive\, Frisco\, TX 750
 35
DTSTART;TZID=America/Chicago:20260507T170000
END:VEVENT
BEGIN:VEVENT
UID:event-888974@jonesabc.boosterhub.com
DTSTAMP:20260425T182728Z
SUMMARY:Boys Soccer HOME 5:00PM\; 6:30PM
DESCRIPTION:
LOCATION:Jones Middle School 12201 Prestwick Hollow Drive\, Frisco\, TX 750
 35
DTSTART;TZID=America/Chicago:20260514T170000
END:VEVENT
BEGIN:VEVENT
UID:event-888975@jonesabc.boosterhub.com
DTSTAMP:20260425T182728Z
SUMMARY:Soccer Championship Series
DESCRIPTION:
LOCATION:TBD
DTSTART;TZID=America/Chicago:20260518T170000
END:VEVENT
END:VCALENDAR